BEGIN:VCALENDAR
VERSION:2.0
PRODID:spatie/icalendar-generator
DESCRIPTION:Events from Shawnee Sno-Chiefs
X-WR-CALDESC:Events from Shawnee Sno-Chiefs
REFRESH-INTERVAL;VALUE=DURATION:PT1440M
X-PUBLISHED-TTL:PT1440M
BEGIN:VTIMEZONE
TZID:Etc/GMT+0
BEGIN:STANDARD
DTSTART:20240508T230000Z
TZOFFSETFROM:+0000
TZOFFSETTO:+0000
END:STANDARD
END:VTIMEZONE
BEGIN:VTIMEZONE
TZID:UTC
BEGIN:STANDARD
DTSTART:20250725T071455Z
TZOFFSETFROM:+0000
TZOFFSETTO:+0000
END:STANDARD
END:VTIMEZONE
BEGIN:VEVENT
UID:7-4
DTSTAMP:20260421T071455Z
SUMMARY:NESS Vintage show
LOCATION:Akron Acres
ORGANIZER;CN=Lonnie Daigler:MAILTO:lwdaigler@kellertechnology.com
DTSTART;TZID=Etc/GMT+0:20250202T230000
DTEND;TZID=Etc/GMT+0:20250203T160000
X-ALT-DESC;FMTTYPE=TEXT/HTML:&amp;nbsp\; NESS Vintage show Akron Acres  11 to 
 4
CATEGORIES:General
URL;VALUE=URI:https://snochiefs.net/mc-events/ness-vintage-show/
METHOD:PUBLISH
END:VEVENT
END:VCALENDAR